BEGIN:VCALENDAR
VERSION:2.0
PRODID:-//Tell Me About - ECPv5.1.6//NONSGML v1.0//EN
CALSCALE:GREGORIAN
METHOD:PUBLISH
X-WR-CALNAME:Tell Me About
X-ORIGINAL-URL:https://tellmeabout.site
X-WR-CALDESC:Events for Tell Me About
BEGIN:VTIMEZONE
TZID:Europe/London
BEGIN:DAYLIGHT
TZOFFSETFROM:+0000
TZOFFSETTO:+0100
TZNAME:BST
DTSTART:20200329T010000
END:DAYLIGHT
BEGIN:STANDARD
TZOFFSETFROM:+0100
TZOFFSETTO:+0000
TZNAME:GMT
DTSTART:20201025T010000
END:STANDARD
END:VTIMEZONE
BEGIN:VEVENT
DTSTART;TZID=Europe/London:20201108T120000
DTEND;TZID=Europe/London:20201121T120000
DTSTAMP:20201008T212217
CREATED:20200913T093339Z
LAST-MODIFIED:20200913T093341Z
UID:4117-1604836800-1605960000@tellmeabout.site
SUMMARY:Tell Me About ... Impact Play
DESCRIPTION:We have asked you about spanking and we have asked you about flogging\, but what are you thoughts on impact play as a whole? Do you love it or hate it? Have your feelings changed as you have explored it more fully? Are there things you enjoy and things that are still off limits? Are there things that you would like to try but haven’t? Please tell us all about impact play and link your post.
URL:https://tellmeabout.site/event/tell-me-about-impact-play/
END:VEVENT
BEGIN:VEVENT
DTSTART;TZID=Europe/London:20201025T120000
DTEND;TZID=Europe/London:20201107T120000
DTSTAMP:20201008T212217
CREATED:20200913T093002Z
LAST-MODIFIED:20200913T093005Z
UID:4115-1603627200-1604750400@tellmeabout.site
SUMMARY:Tell Me About ... Desire
DESCRIPTION:On Tell Me About this time\, we want to know about desire. What are your desires? How do you meet the desires of your partner? What part does desire play in your relationships and for you as a person in general. Write a post on what desire means to you and link it for us here on Tell Me About.
URL:https://tellmeabout.site/event/tell-me-about-desire/
END:VEVENT
BEGIN:VEVENT
DTSTART;TZID=Europe/London:20201011T120000
DTEND;TZID=Europe/London:20201024T120000
DTSTAMP:20201008T212217
CREATED:20200913T092606Z
LAST-MODIFIED:20200913T092608Z
UID:4113-1602417600-1603540800@tellmeabout.site
SUMMARY:Tell Me About ... Blindfolds and Masks
DESCRIPTION:This time we are asking you about blindfolds and masks. Are these things that you use as part of your kinky play? If so how do you use them and what do they add. We are hoping you will reveal all.
URL:https://tellmeabout.site/event/tell-me-about-blindfolds-and-masks/
END:VEVENT
END:VCALENDAR